BEGIN:VCALENDAR
VERSION:2.0
PRODID:-//Paul Vachon - ECPv6.15.6//NONSGML v1.0//EN
CALSCALE:GREGORIAN
METHOD:PUBLISH
X-ORIGINAL-URL:https://paulvachonwrites.com
X-WR-CALDESC:Events for Paul Vachon
REFRESH-INTERVAL;VALUE=DURATION:PT1H
X-Robots-Tag:noindex
X-PUBLISHED-TTL:PT1H
BEGIN:VTIMEZONE
TZID:UTC
BEGIN:STANDARD
TZOFFSETFROM:+0000
TZOFFSETTO:+0000
TZNAME:UTC
DTSTART:20180101T000000
END:STANDARD
END:VTIMEZONE
BEGIN:VEVENT
DTSTART;TZID=UTC:20230927T183000
DTEND;TZID=UTC:20230927T200000
DTSTAMP:20260423T143727
CREATED:20230312T203434Z
LAST-MODIFIED:20230403T174840Z
UID:2628-1695839400-1695844800@paulvachonwrites.com
SUMMARY:Presentation and Signing--Detroit--An Illustrated Timeline 2nd. Edition
DESCRIPTION:
URL:https://paulvachonwrites.com/event/presentation-and-signing-detroit-an-illustrated-timeline/
LOCATION:West Bloomfield Public Library\, 4600 Walnut Lake Rd.\, West Bloomfield\, MI\, 48323\, United States
END:VEVENT
BEGIN:VEVENT
DTSTART;TZID=UTC:20230926T183000
DTEND;TZID=UTC:20230926T200000
DTSTAMP:20260423T143727
CREATED:20230403T182635Z
LAST-MODIFIED:20230403T183559Z
UID:2677-1695753000-1695758400@paulvachonwrites.com
SUMMARY:Presentation and Signing--Detroit: An Illustrated Timeline
DESCRIPTION:
URL:https://paulvachonwrites.com/event/presentation-and-signing-detroit-an-illustrated-timeline-4/
LOCATION:Oak Park Public Library\, 14200 Oak Park\, Blvd.\, Oak Park\, MI\, 48237\, United States
END:VEVENT
BEGIN:VEVENT
DTSTART;TZID=UTC:20230824T183000
DTEND;TZID=UTC:20230824T200000
DTSTAMP:20260423T143727
CREATED:20230403T182528Z
LAST-MODIFIED:20230403T182528Z
UID:2675-1692901800-1692907200@paulvachonwrites.com
SUMMARY:Presentation and Signing--Detroit: An Illustrated Timeline
DESCRIPTION:
URL:https://paulvachonwrites.com/event/presentation-and-signing-detroit-an-illustrated-timeline-3/
LOCATION:MI
END:VEVENT
BEGIN:VEVENT
DTSTART;TZID=UTC:20230807T190000
DTEND;TZID=UTC:20230807T200000
DTSTAMP:20260423T143727
CREATED:20230403T182408Z
LAST-MODIFIED:20230403T183655Z
UID:2673-1691434800-1691438400@paulvachonwrites.com
SUMMARY:Presentation and Signing--Detroit: An Illustrated Timeline
DESCRIPTION:
URL:https://paulvachonwrites.com/event/presentation-and-signing-detroit-an-illustrated-timeline-2/
LOCATION:Livonia Public Library\, 32777 Five Mile Rd.\, Livonia\, MI\, 48154\, United States
END:VEVENT
BEGIN:VEVENT
DTSTART;TZID=UTC:20230731T190000
DTEND;TZID=UTC:20230731T203000
DTSTAMP:20260423T143727
CREATED:20230312T204029Z
LAST-MODIFIED:20230403T184937Z
UID:2634-1690830000-1690835400@paulvachonwrites.com
SUMMARY:Presentation and Signing--Detroit: An Illustrated Timeline\, 2nd. Edition
DESCRIPTION:
URL:https://paulvachonwrites.com/event/presentation-and-signing-detroit-an-illustrated-timeline-2nd-edition-2/
LOCATION:Northville District Library\, 212 W. Cady St.\, Northville\, MI\, 48167\, United States
END:VEVENT
BEGIN:VEVENT
DTSTART;TZID=UTC:20230726T183000
DTEND;TZID=UTC:20230726T200000
DTSTAMP:20260423T143727
CREATED:20230312T205212Z
LAST-MODIFIED:20230312T205212Z
UID:2642-1690396200-1690401600@paulvachonwrites.com
SUMMARY:Presentation and Signing--Detroit: An Illustrated Timeline\, 2nd. Edition
DESCRIPTION:
URL:https://paulvachonwrites.com/event/presentation-and-signing-detroit-an-illustrated-timeline-2nd-edition-5/
LOCATION:Brighton Distric Library\, 100 Library Dr.\, Brighton\, MI\, 48116\, United States
END:VEVENT
BEGIN:VEVENT
DTSTART;TZID=UTC:20230629T180000
DTEND;TZID=UTC:20230629T193000
DTSTAMP:20260423T143727
CREATED:20230312T202639Z
LAST-MODIFIED:20230312T202639Z
UID:2626-1688061600-1688067000@paulvachonwrites.com
SUMMARY:Presentation and Signing; Detroit: An Illustrated Timeline\, 2nd. Edition
DESCRIPTION:
URL:https://paulvachonwrites.com/event/presentation-and-signing-detroit-an-illustrated-timeline-2nd-edition/
LOCATION:Southgate Veterans Memorial Library\, 14690 Dix Toledo Highway\, Southgate\, MI\, 48195\, United States
END:VEVENT
BEGIN:VEVENT
DTSTART;TZID=UTC:20230626T183000
DTEND;TZID=UTC:20230626T200000
DTSTAMP:20260423T143727
CREATED:20230312T205723Z
LAST-MODIFIED:20230403T184237Z
UID:2645-1687804200-1687809600@paulvachonwrites.com
SUMMARY:Presentation and Signing--Detroit: An Illustrated Timeline\, 2nd. Edition
DESCRIPTION:
URL:https://paulvachonwrites.com/event/presentation-and-signing-2/
LOCATION:Riverview Veterans Memorial Library\, 14300 Sibley Rd.\, Riverview\, MI\, 48193\, United States
END:VEVENT
BEGIN:VEVENT
DTSTART;TZID=UTC:20230613T183000
DTEND;TZID=UTC:20230613T200000
DTSTAMP:20260423T143727
CREATED:20230403T182152Z
LAST-MODIFIED:20230403T182152Z
UID:2671-1686681000-1686686400@paulvachonwrites.com
SUMMARY:Presentation and Signing--Detroit: An Illustrated Timeline 2nd. Edition
DESCRIPTION:
URL:https://paulvachonwrites.com/event/presentation-and-signing-detroit-an-illustrated-timeline-2nd-edition-8/
LOCATION:John F. Kennedy Jr. Library\, 26602 Van Born Rd.\, Dearborn Heights\, MI\, 48125\, United States
END:VEVENT
BEGIN:VEVENT
DTSTART;TZID=UTC:20230608T180000
DTEND;TZID=UTC:20230608T193000
DTSTAMP:20260423T143727
CREATED:20230312T204639Z
LAST-MODIFIED:20230403T184100Z
UID:2640-1686247200-1686252600@paulvachonwrites.com
SUMMARY:Presentation and Signing--Detroit: An Illustrated Timeline\, 2nd. Edition
DESCRIPTION:
URL:https://paulvachonwrites.com/event/presentation-and-signing-detroit-an-illustrated-timeline-2nd-edition-4/
LOCATION:Eastpointe Memorial Library\, 15875 Oak Ave.\, Eastpointe\, MI\, 48021\, United States
END:VEVENT
BEGIN:VEVENT
DTSTART;TZID=UTC:20230602T140000
DTEND;TZID=UTC:20230602T150000
DTSTAMP:20260423T143727
CREATED:20230403T175533Z
LAST-MODIFIED:20230403T175533Z
UID:2661-1685714400-1685718000@paulvachonwrites.com
SUMMARY:Presentation and Signing--Detroit: An  Illustrated Timeline 2nd. Edition
DESCRIPTION:
URL:https://paulvachonwrites.com/event/presentation-and-signing-detroit-an-illustrated-timeline-2nd-edition-7/
LOCATION:Ann Arbor District Library\, 2359 Oak Valley Dr.\, Ann Arbor\, MI\, 48103\, United States
END:VEVENT
BEGIN:VEVENT
DTSTART;TZID=UTC:20230531T190000
DTEND;TZID=UTC:20230531T200000
DTSTAMP:20260423T143727
CREATED:20230312T211456Z
LAST-MODIFIED:20230312T211456Z
UID:2656-1685559600-1685563200@paulvachonwrites.com
SUMMARY:Presentation and Signing--Detroit: An Illustrated Timeline\, 2nd Edition
DESCRIPTION:
URL:https://paulvachonwrites.com/event/presentation-and-signing-detroit-an-illustrated-timeline-2nd-edition-6/
LOCATION:Mt. Clemens Public Library\, 300 N. Grosbeck Hwy\, Mt. Clemens\, MI\, 48043\, United States
END:VEVENT
BEGIN:VEVENT
DTSTART;TZID=UTC:20230516T180000
DTEND;TZID=UTC:20230516T193000
DTSTAMP:20260423T143727
CREATED:20230312T210657Z
LAST-MODIFIED:20230312T210657Z
UID:2651-1684260000-1684265400@paulvachonwrites.com
SUMMARY:Presentation and Signing--Becoming the Motor City: A Timeline of Detroit's Auto Industry
DESCRIPTION:
URL:https://paulvachonwrites.com/event/presentation-and-signing-becoming-the-motor-city-a-timeline-of-detroits-auto-industry-2/
LOCATION:Roseville Historical and Geneological Society\, 29777 Gratiot Ave.\, Roseville\, MI\, 48066\, United States
END:VEVENT
BEGIN:VEVENT
DTSTART;TZID=UTC:20230329T190000
DTEND;TZID=UTC:20230329T200000
DTSTAMP:20260423T143727
CREATED:20230312T205919Z
LAST-MODIFIED:20230312T205919Z
UID:2649-1680116400-1680120000@paulvachonwrites.com
SUMMARY:Presentation and Signing--Becoming the Motor City: A Timeline of Detroit's Auto Industry
DESCRIPTION:
URL:https://paulvachonwrites.com/event/presentation-and-signing-becoming-the-motor-city-a-timeline-of-detroits-auto-industry/
LOCATION:Mt. Clemens Public Library\, 300 N. Grosbeck Hwy\, Mt. Clemens\, MI\, 48043\, United States
END:VEVENT
BEGIN:VEVENT
DTSTART;TZID=UTC:20230312T080000
DTEND;TZID=UTC:20230312T170000
DTSTAMP:20260423T143727
CREATED:20230312T204238Z
LAST-MODIFIED:20230312T204238Z
UID:2638-1678608000-1678640400@paulvachonwrites.com
SUMMARY:Presentation and Signing--Detroit: An Illustrated Timeline\, 2nd Edition
DESCRIPTION:
URL:https://paulvachonwrites.com/event/presentation-and-signing-detroit-an-illustrated-timeline-2nd-edition-3/
LOCATION:Mt. Clemens Public Library\, 300 N. Grosbeck Hwy\, Mt. Clemens\, MI\, 48043\, United States
END:VEVENT
BEGIN:VEVENT
DTSTART;TZID=UTC:20221205T183000
DTEND;TZID=UTC:20221205T200000
DTSTAMP:20260423T143727
CREATED:20220722T184322Z
LAST-MODIFIED:20220722T184548Z
UID:2593-1670265000-1670270400@paulvachonwrites.com
SUMMARY:Becoming the Motor City--Presentation and Signing
DESCRIPTION:
URL:https://paulvachonwrites.com/event/becoming-the-motor-city-presentation-and-signing-7/
LOCATION:Livonia Public Library\, 32777 Five Mile Rd.\, Livonia\, MI\, 48154\, United States
END:VEVENT
BEGIN:VEVENT
DTSTART;TZID=UTC:20221117T190000
DTEND;TZID=UTC:20221117T203000
DTSTAMP:20260423T143727
CREATED:20220722T185417Z
LAST-MODIFIED:20220722T191013Z
UID:2595-1668711600-1668717000@paulvachonwrites.com
SUMMARY:Becoming the Motor City--Presentation and Signing
DESCRIPTION:
URL:https://paulvachonwrites.com/event/becoming-the-motor-city-presentation-and-signing-8/
LOCATION:Mt. Clemens Public Library\, 300 N. Grosbeck Hwy\, Mt. Clemens\, MI\, 48043\, United States
END:VEVENT
BEGIN:VEVENT
DTSTART;TZID=UTC:20221102T180000
DTEND;TZID=UTC:20221102T200000
DTSTAMP:20260423T143727
CREATED:20220722T184124Z
LAST-MODIFIED:20220722T184124Z
UID:2590-1667412000-1667419200@paulvachonwrites.com
SUMMARY:Presentation and Signing--Becoming the Motor City
DESCRIPTION:
URL:https://paulvachonwrites.com/event/presentation-and-signing-becoming-the-motor-city/
LOCATION:Pages Bookshop\, 19560 Grand River Ave.\, Detroit\, MI\, 48223\, United States
END:VEVENT
BEGIN:VEVENT
DTSTART;TZID=UTC:20220423T140000
DTEND;TZID=UTC:20220423T160000
DTSTAMP:20260423T143727
CREATED:20211124T175722Z
LAST-MODIFIED:20211124T175722Z
UID:2545-1650722400-1650729600@paulvachonwrites.com
SUMMARY:Becoming the Motor City--Presentation and Signing
DESCRIPTION:
URL:https://paulvachonwrites.com/event/becoming-the-motor-city-presentation-and-signing-6/
LOCATION:Auburn Hills Public Library\, 3400 E. Seyburn Dr.\, Auburn Hills\, MI\, 48326
END:VEVENT
BEGIN:VEVENT
DTSTART;TZID=UTC:20220117T190000
DTEND;TZID=UTC:20220117T203000
DTSTAMP:20260423T143727
CREATED:20211123T195212Z
LAST-MODIFIED:20211123T195212Z
UID:2540-1642446000-1642451400@paulvachonwrites.com
SUMMARY:Becoming the Motor City--Presentation and Signing
DESCRIPTION:
URL:https://paulvachonwrites.com/event/becoming-the-motor-city-presentation-and-signing-5/
LOCATION:Troy Public Library\, 510 W.\, Big Beaver Rd.\, Troy\, MI\, 48084\, United States
END:VEVENT
BEGIN:VEVENT
DTSTART;TZID=UTC:20220115T030000
DTEND;TZID=UTC:20220115T163000
DTSTAMP:20260423T143727
CREATED:20211123T194534Z
LAST-MODIFIED:20211123T194534Z
UID:2537-1642215600-1642264200@paulvachonwrites.com
SUMMARY:Becoming the Motor City--Presentation and Signing
DESCRIPTION:
URL:https://paulvachonwrites.com/event/becoming-the-motor-city-presentation-and-signing-4/
LOCATION:Clinton Macomb Public Library 40900 Romeo Plank Clinton Twp.\, MI 48038
END:VEVENT
BEGIN:VEVENT
DTSTART;TZID=UTC:20211130T183000
DTEND;TZID=UTC:20211130T200000
DTSTAMP:20260423T143727
CREATED:20211108T180325Z
LAST-MODIFIED:20211108T180325Z
UID:2533-1638297000-1638302400@paulvachonwrites.com
SUMMARY:Becoming the Motor City--Presentation and Signing
DESCRIPTION:This talk will cover some of the highlights of my newest book\, Becoming the Motor City: A Timeline of Detroit’s Auto Industry\, including Henry Ford’s two attempts to become an automaker before he started Ford Motor Company\, the heavy-handed tactics General Motors used against Ralph Nader when he raised the alarm about auto safety\, and some of the lesser-known facts surrounding local auto lore. Copies of the book will be available for purchase.
URL:https://paulvachonwrites.com/event/becoming-the-motor-city-presentation-and-signing-3/
LOCATION:Henry Ford Centennial Library\, 16301 Michigan Ave.\, Dearborn\, MI\, 48126\, United States
END:VEVENT
BEGIN:VEVENT
DTSTART;TZID=UTC:20211116T190000
DTEND;TZID=UTC:20211116T203000
DTSTAMP:20260423T143727
CREATED:20211108T174607Z
LAST-MODIFIED:20211108T174607Z
UID:2530-1637089200-1637094600@paulvachonwrites.com
SUMMARY:Becoming the Motor City--Presentation and Signing
DESCRIPTION:
URL:https://paulvachonwrites.com/event/becoming-the-motor-city-presentation-and-signing-2/
LOCATION:Caroline Kennedy Library\, 24590 George St.\, Dearborn Heights\, MI\, 48127\, United States
END:VEVENT
BEGIN:VEVENT
DTSTART;TZID=UTC:20211109T190000
DTEND;TZID=UTC:20211109T203000
DTSTAMP:20260423T143727
CREATED:20211108T173953Z
LAST-MODIFIED:20211108T173953Z
UID:2527-1636484400-1636489800@paulvachonwrites.com
SUMMARY:Becoming the Motor City--Presentation and Signing
DESCRIPTION:
URL:https://paulvachonwrites.com/event/becoming-the-motor-city-presentation-and-signing/
LOCATION:Farmington Community Library\, 32737 W. 12 Mile Rd.\, Farmington Hills\, MI\, 48334\, United States
END:VEVENT
BEGIN:VEVENT
DTSTART;TZID=UTC:20201024T120000
DTEND;TZID=UTC:20201024T150000
DTSTAMP:20260423T143727
CREATED:20200310T203246Z
LAST-MODIFIED:20200310T203246Z
UID:2486-1603540800-1603551600@paulvachonwrites.com
SUMMARY:Authors in the Atrium
DESCRIPTION:Event will be a signing and meet and greet by several local authors including myself. I’ll be signing copies of all of my books.
URL:https://paulvachonwrites.com/event/authors-in-the-atrium/
LOCATION:Livonia Public Library\, 32777 Five Mile Rd.\, Livonia\, MI\, 48154\, United States
END:VEVENT
BEGIN:VEVENT
DTSTART;TZID=UTC:20200919T130000
DTEND;TZID=UTC:20200919T143000
DTSTAMP:20260423T143727
CREATED:20200310T203012Z
LAST-MODIFIED:20200310T203012Z
UID:2483-1600520400-1600525800@paulvachonwrites.com
SUMMARY:Multiple Books; Presentation and Signing
DESCRIPTION:Event will be a combined presentation covering Detroit: An Illustrated Timeline\, Lost Restaurants of Detroit\, and Legendary Locals of Detroit.
URL:https://paulvachonwrites.com/event/multiple-books-presentation-and-signing/
LOCATION:Auburn Hills Public Library\, 3400 E. Seyburn Dr.\, Auburn Hills\, MI\, 48326
END:VEVENT
BEGIN:VEVENT
DTSTART;TZID=UTC:20200915T190000
DTEND;TZID=UTC:20200915T203000
DTSTAMP:20260423T143727
CREATED:20200310T202418Z
LAST-MODIFIED:20200310T202418Z
UID:2479-1600196400-1600201800@paulvachonwrites.com
SUMMARY:Lost Resturants of Detroit; Presentation and Signing
DESCRIPTION:
URL:https://paulvachonwrites.com/event/lost-resturants-of-detroit-presentation-and-signing/
LOCATION:Livonia Public Library\, 32777 Five Mile Rd.\, Livonia\, MI\, 48154\, United States
END:VEVENT
BEGIN:VEVENT
DTSTART;TZID=UTC:20200115T190000
DTEND;TZID=UTC:20200115T203000
DTSTAMP:20260423T143727
CREATED:20191213T210333Z
LAST-MODIFIED:20191213T210333Z
UID:2458-1579114800-1579120200@paulvachonwrites.com
SUMMARY:Detroit: An Illustrated Timeline; Presentation and Signing
DESCRIPTION:
URL:https://paulvachonwrites.com/event/detroit-an-illustrated-timeline-presentation-and-signing-9/
LOCATION:Redford District Library\, 25320 Six Mile Rd.\, Redford Township\, MI\, 48240\, United States
END:VEVENT
BEGIN:VEVENT
DTSTART;TZID=UTC:20200109T190000
DTEND;TZID=UTC:20200109T203000
DTSTAMP:20260423T143727
CREATED:20191213T205415Z
LAST-MODIFIED:20191213T205659Z
UID:2455-1578596400-1578601800@paulvachonwrites.com
SUMMARY:Detroit: An Illustrated Timeline; Presentation and Signing
DESCRIPTION:Farmington
URL:https://paulvachonwrites.com/event/detroit-an-illustrated-timeline-presentation-and-signing-8/
LOCATION:Farmington Community Library\, 32737 W. 12 Mile Rd.\, Farmington Hills\, MI\, 48334\, United States
END:VEVENT
BEGIN:VEVENT
DTSTART;TZID=UTC:20191212T180000
DTEND;TZID=UTC:20191212T193000
DTSTAMP:20260423T143727
CREATED:20191111T173924Z
LAST-MODIFIED:20191111T173924Z
UID:2450-1576173600-1576179000@paulvachonwrites.com
SUMMARY:Detroit: An Illustrated Timeline; Presentation and Signing
DESCRIPTION:
URL:https://paulvachonwrites.com/event/detroit-an-illustrated-timeline-presentation-and-signing-7/
LOCATION:Warren Public Library–Arthur Miller Branch\, 5460 Arden Ave.\, Warren\, MI\, 48092\, United States
END:VEVENT
END:VCALENDAR