BEGIN:VCALENDAR
VERSION:2.0
PRODID:-//Paul Vachon - ECPv6.15.6//NONSGML v1.0//EN
CALSCALE:GREGORIAN
METHOD:PUBLISH
X-WR-CALNAME:Paul Vachon
X-ORIGINAL-URL:https://paulvachonwrites.com
X-WR-CALDESC:Events for Paul Vachon
REFRESH-INTERVAL;VALUE=DURATION:PT1H
X-Robots-Tag:noindex
X-PUBLISHED-TTL:PT1H
BEGIN:VTIMEZONE
TZID:UTC
BEGIN:STANDARD
TZOFFSETFROM:+0000
TZOFFSETTO:+0000
TZNAME:UTC
DTSTART:20180101T000000
END:STANDARD
END:VTIMEZONE
BEGIN:VTIMEZONE
TZID:America/Detroit
BEGIN:DAYLIGHT
TZOFFSETFROM:-0500
TZOFFSETTO:-0400
TZNAME:EDT
DTSTART:20180311T070000
END:DAYLIGHT
BEGIN:STANDARD
TZOFFSETFROM:-0400
TZOFFSETTO:-0500
TZNAME:EST
DTSTART:20181104T060000
END:STANDARD
BEGIN:DAYLIGHT
TZOFFSETFROM:-0500
TZOFFSETTO:-0400
TZNAME:EDT
DTSTART:20190310T070000
END:DAYLIGHT
BEGIN:STANDARD
TZOFFSETFROM:-0400
TZOFFSETTO:-0500
TZNAME:EST
DTSTART:20191103T060000
END:STANDARD
BEGIN:DAYLIGHT
TZOFFSETFROM:-0500
TZOFFSETTO:-0400
TZNAME:EDT
DTSTART:20200308T070000
END:DAYLIGHT
BEGIN:STANDARD
TZOFFSETFROM:-0400
TZOFFSETTO:-0500
TZNAME:EST
DTSTART:20201101T060000
END:STANDARD
END:VTIMEZONE
BEGIN:VEVENT
DTSTART;TZID=UTC:20220115T030000
DTEND;TZID=UTC:20220115T163000
DTSTAMP:20260425T151442
CREATED:20211123T194534Z
LAST-MODIFIED:20211123T194534Z
UID:2537-1642215600-1642264200@paulvachonwrites.com
SUMMARY:Becoming the Motor City--Presentation and Signing
DESCRIPTION:
URL:https://paulvachonwrites.com/event/becoming-the-motor-city-presentation-and-signing-4/
LOCATION:Clinton Macomb Public Library 40900 Romeo Plank Clinton Twp.\, MI 48038
END:VEVENT
BEGIN:VEVENT
DTSTART;TZID=UTC:20211130T183000
DTEND;TZID=UTC:20211130T200000
DTSTAMP:20260425T151442
CREATED:20211108T180325Z
LAST-MODIFIED:20211108T180325Z
UID:2533-1638297000-1638302400@paulvachonwrites.com
SUMMARY:Becoming the Motor City--Presentation and Signing
DESCRIPTION:This talk will cover some of the highlights of my newest book\, Becoming the Motor City: A Timeline of Detroit’s Auto Industry\, including Henry Ford’s two attempts to become an automaker before he started Ford Motor Company\, the heavy-handed tactics General Motors used against Ralph Nader when he raised the alarm about auto safety\, and some of the lesser-known facts surrounding local auto lore. Copies of the book will be available for purchase.
URL:https://paulvachonwrites.com/event/becoming-the-motor-city-presentation-and-signing-3/
LOCATION:Henry Ford Centennial Library\, 16301 Michigan Ave.\, Dearborn\, MI\, 48126\, United States
END:VEVENT
BEGIN:VEVENT
DTSTART;TZID=UTC:20211116T190000
DTEND;TZID=UTC:20211116T203000
DTSTAMP:20260425T151442
CREATED:20211108T174607Z
LAST-MODIFIED:20211108T174607Z
UID:2530-1637089200-1637094600@paulvachonwrites.com
SUMMARY:Becoming the Motor City--Presentation and Signing
DESCRIPTION:
URL:https://paulvachonwrites.com/event/becoming-the-motor-city-presentation-and-signing-2/
LOCATION:Caroline Kennedy Library\, 24590 George St.\, Dearborn Heights\, MI\, 48127\, United States
END:VEVENT
BEGIN:VEVENT
DTSTART;TZID=UTC:20211109T190000
DTEND;TZID=UTC:20211109T203000
DTSTAMP:20260425T151442
CREATED:20211108T173953Z
LAST-MODIFIED:20211108T173953Z
UID:2527-1636484400-1636489800@paulvachonwrites.com
SUMMARY:Becoming the Motor City--Presentation and Signing
DESCRIPTION:
URL:https://paulvachonwrites.com/event/becoming-the-motor-city-presentation-and-signing/
LOCATION:Farmington Community Library\, 32737 W. 12 Mile Rd.\, Farmington Hills\, MI\, 48334\, United States
END:VEVENT
BEGIN:VEVENT
DTSTART;TZID=UTC:20201024T120000
DTEND;TZID=UTC:20201024T150000
DTSTAMP:20260425T151442
CREATED:20200310T203246Z
LAST-MODIFIED:20200310T203246Z
UID:2486-1603540800-1603551600@paulvachonwrites.com
SUMMARY:Authors in the Atrium
DESCRIPTION:Event will be a signing and meet and greet by several local authors including myself. I’ll be signing copies of all of my books.
URL:https://paulvachonwrites.com/event/authors-in-the-atrium/
LOCATION:Livonia Public Library\, 32777 Five Mile Rd.\, Livonia\, MI\, 48154\, United States
END:VEVENT
BEGIN:VEVENT
DTSTART;TZID=UTC:20200919T130000
DTEND;TZID=UTC:20200919T143000
DTSTAMP:20260425T151442
CREATED:20200310T203012Z
LAST-MODIFIED:20200310T203012Z
UID:2483-1600520400-1600525800@paulvachonwrites.com
SUMMARY:Multiple Books; Presentation and Signing
DESCRIPTION:Event will be a combined presentation covering Detroit: An Illustrated Timeline\, Lost Restaurants of Detroit\, and Legendary Locals of Detroit.
URL:https://paulvachonwrites.com/event/multiple-books-presentation-and-signing/
LOCATION:Auburn Hills Public Library\, 3400 E. Seyburn Dr.\, Auburn Hills\, MI\, 48326
END:VEVENT
BEGIN:VEVENT
DTSTART;TZID=UTC:20200915T190000
DTEND;TZID=UTC:20200915T203000
DTSTAMP:20260425T151442
CREATED:20200310T202418Z
LAST-MODIFIED:20200310T202418Z
UID:2479-1600196400-1600201800@paulvachonwrites.com
SUMMARY:Lost Resturants of Detroit; Presentation and Signing
DESCRIPTION:
URL:https://paulvachonwrites.com/event/lost-resturants-of-detroit-presentation-and-signing/
LOCATION:Livonia Public Library\, 32777 Five Mile Rd.\, Livonia\, MI\, 48154\, United States
END:VEVENT
BEGIN:VEVENT
DTSTART;TZID=UTC:20200115T190000
DTEND;TZID=UTC:20200115T203000
DTSTAMP:20260425T151442
CREATED:20191213T210333Z
LAST-MODIFIED:20191213T210333Z
UID:2458-1579114800-1579120200@paulvachonwrites.com
SUMMARY:Detroit: An Illustrated Timeline; Presentation and Signing
DESCRIPTION:
URL:https://paulvachonwrites.com/event/detroit-an-illustrated-timeline-presentation-and-signing-9/
LOCATION:Redford District Library\, 25320 Six Mile Rd.\, Redford Township\, MI\, 48240\, United States
END:VEVENT
BEGIN:VEVENT
DTSTART;TZID=UTC:20200109T190000
DTEND;TZID=UTC:20200109T203000
DTSTAMP:20260425T151442
CREATED:20191213T205415Z
LAST-MODIFIED:20191213T205659Z
UID:2455-1578596400-1578601800@paulvachonwrites.com
SUMMARY:Detroit: An Illustrated Timeline; Presentation and Signing
DESCRIPTION:Farmington
URL:https://paulvachonwrites.com/event/detroit-an-illustrated-timeline-presentation-and-signing-8/
LOCATION:Farmington Community Library\, 32737 W. 12 Mile Rd.\, Farmington Hills\, MI\, 48334\, United States
END:VEVENT
BEGIN:VEVENT
DTSTART;TZID=UTC:20191212T180000
DTEND;TZID=UTC:20191212T193000
DTSTAMP:20260425T151442
CREATED:20191111T173924Z
LAST-MODIFIED:20191111T173924Z
UID:2450-1576173600-1576179000@paulvachonwrites.com
SUMMARY:Detroit: An Illustrated Timeline; Presentation and Signing
DESCRIPTION:
URL:https://paulvachonwrites.com/event/detroit-an-illustrated-timeline-presentation-and-signing-7/
LOCATION:Warren Public Library–Arthur Miller Branch\, 5460 Arden Ave.\, Warren\, MI\, 48092\, United States
END:VEVENT
BEGIN:VEVENT
DTSTART;TZID=UTC:20191208T130000
DTEND;TZID=UTC:20191208T160000
DTSTAMP:20260425T151442
CREATED:20191111T172858Z
LAST-MODIFIED:20191111T172858Z
UID:2448-1575810000-1575820800@paulvachonwrites.com
SUMMARY:Detroit: An Illustrated Timeline; Signing
DESCRIPTION:
URL:https://paulvachonwrites.com/event/detroit-an-illustrated-timeline-signing-3/
END:VEVENT
BEGIN:VEVENT
DTSTART;TZID=UTC:20191207T120000
DTEND;TZID=UTC:20191207T160000
DTSTAMP:20260425T151442
CREATED:20191111T171351Z
LAST-MODIFIED:20191111T172016Z
UID:2440-1575720000-1575734400@paulvachonwrites.com
SUMMARY:Local Authors Holiday Book Fair
DESCRIPTION:I’ll be signing copies of Detroit: An Illustrated Timeline as well as one of my earlier books\, Lost Restaurants of Detroit. There will also be an elite group of other Detroit authors.
URL:https://paulvachonwrites.com/event/local-authors-holiday-book-fair/
LOCATION:Mexicantown Latino Cultural Center\, 2835 Bagley Ave.\, Detroit\, MI\, 48216\, United States
END:VEVENT
BEGIN:VEVENT
DTSTART;TZID=UTC:20191114T183000
DTEND;TZID=UTC:20191114T200000
DTSTAMP:20260425T151442
CREATED:20190619T163830Z
LAST-MODIFIED:20190619T164101Z
UID:2410-1573756200-1573761600@paulvachonwrites.com
SUMMARY:Detroit: An Illustrated Timeline; Presentation and signing
DESCRIPTION:
URL:https://paulvachonwrites.com/event/detroit-an-illustrated-timeline/
LOCATION:Hamburg Township Library\, 10411 Merrill Road\, Hamburg\, MI\, 48139\, United States
END:VEVENT
BEGIN:VEVENT
DTSTART;TZID=UTC:20190806T190000
DTEND;TZID=UTC:20190806T203000
DTSTAMP:20260425T151442
CREATED:20190625T004740Z
LAST-MODIFIED:20190625T004740Z
UID:2415-1565118000-1565123400@paulvachonwrites.com
SUMMARY:Detroit: An Illustrated Timeline; Presentation and signing
DESCRIPTION:
URL:https://paulvachonwrites.com/event/detroit-an-illustrated-timeline-presentation-and-signing-3/
LOCATION:Ann Arbor District Library\, 2359 Oak Valley Dr.\, Ann Arbor\, MI\, 48103\, United States
END:VEVENT
BEGIN:VEVENT
DTSTART;TZID=UTC:20190727T130000
DTEND;TZID=UTC:20190727T150000
DTSTAMP:20260425T151442
CREATED:20190619T161234Z
LAST-MODIFIED:20190619T161234Z
UID:2401-1564232400-1564239600@paulvachonwrites.com
SUMMARY:Detroit: An Illustrated Timeline; signing
DESCRIPTION:
URL:https://paulvachonwrites.com/event/detroit-an-illustrated-timeline-signing-4/
LOCATION:Costco\, 45460 Market St.\, Shelby Twp.\, MI\, 48315\, United States
END:VEVENT
BEGIN:VEVENT
DTSTART;TZID=UTC:20190724T180000
DTEND;TZID=UTC:20190724T200000
DTSTAMP:20260425T151442
CREATED:20190507T190840Z
LAST-MODIFIED:20190507T191519Z
UID:2374-1563991200-1563998400@paulvachonwrites.com
SUMMARY:Detroit: An Illustrated Timeline; Presentation and signing
DESCRIPTION:
URL:https://paulvachonwrites.com/event/detroit-public-library-presentation-and-signing/
LOCATION:Detroit Public Library\, 5201 Woodward Ave.\, Detroit\, Michigan\, 48202\, United States
END:VEVENT
BEGIN:VEVENT
DTSTART;VALUE=DATE:20190721
DTEND;VALUE=DATE:20190722
DTSTAMP:20260425T151442
CREATED:20190507T185910Z
LAST-MODIFIED:20190507T185910Z
UID:2372-1563667200-1563753599@paulvachonwrites.com
SUMMARY:Detroit Festival of Books; Sale and signing
DESCRIPTION:
URL:https://paulvachonwrites.com/event/detroit-festival-of-books-sale-and-signing/
END:VEVENT
BEGIN:VEVENT
DTSTART;TZID=UTC:20190720T130000
DTEND;TZID=UTC:20190720T150000
DTSTAMP:20260425T151442
CREATED:20190619T160633Z
LAST-MODIFIED:20190619T160648Z
UID:2397-1563627600-1563634800@paulvachonwrites.com
SUMMARY:Detroit: An Illustrated Timeline; signing
DESCRIPTION:
URL:https://paulvachonwrites.com/event/detroit-anillustrated-timeline-signing/
LOCATION:Costco\, 3000 Commerce Crossing\, Commerce Twp.\, MI\, 48390\, United States
END:VEVENT
BEGIN:VEVENT
DTSTART;TZID=UTC:20190713T130000
DTEND;TZID=UTC:20190713T150000
DTSTAMP:20260425T151442
CREATED:20190619T162347Z
LAST-MODIFIED:20190619T162347Z
UID:2396-1563022800-1563030000@paulvachonwrites.com
SUMMARY:Detroit: An Illustrated Timeline; signing
DESCRIPTION:
URL:https://paulvachonwrites.com/event/detroit-an-illustrated-timeline-signing-5/
LOCATION:Costco\, 27118 Gratiot Ave.\, Roseville\, MI\, 48066\, United States
END:VEVENT
BEGIN:VEVENT
DTSTART;TZID=UTC:20190706T130000
DTEND;TZID=UTC:20190706T150000
DTSTAMP:20260425T151442
CREATED:20190619T155433Z
LAST-MODIFIED:20190619T155433Z
UID:2390-1562418000-1562425200@paulvachonwrites.com
SUMMARY:Detroit: An Illustrated Timeline; signing
DESCRIPTION:
URL:https://paulvachonwrites.com/event/detroit-an-illustrated-timeline-signing-2/
LOCATION:Costco\, 20000 Haggerty Rd.\, Livonia\, MI\, 48152\, United States
END:VEVENT
BEGIN:VEVENT
DTSTART;TZID=UTC:20190629T130000
DTEND;TZID=UTC:20190629T150000
DTSTAMP:20260425T151442
CREATED:20190619T154817Z
LAST-MODIFIED:20190619T154817Z
UID:2387-1561813200-1561820400@paulvachonwrites.com
SUMMARY:Detroit: An Illustrated Timeline; Signing
DESCRIPTION:
URL:https://paulvachonwrites.com/event/detroit-an-illustrated-timeline-signing/
LOCATION:Costco\, 400 Brown Road\, Auburn Hills\, MI\, 48326\, United States
END:VEVENT
BEGIN:VEVENT
DTSTART;TZID=UTC:20190618T183000
DTEND;TZID=UTC:20190618T200000
DTSTAMP:20260425T151442
CREATED:20190313T032504Z
LAST-MODIFIED:20190313T032504Z
UID:2351-1560882600-1560888000@paulvachonwrites.com
SUMMARY:Detroit: An Illustrated Timeline; Presentation and signing
DESCRIPTION:
URL:https://paulvachonwrites.com/event/detroit-an-illustrated-timeline-presentation-and-signing-6/
LOCATION:Clinton Macomb Public Library 40900 Romeo Plank Clinton Twp.\, MI 48038
END:VEVENT
BEGIN:VEVENT
DTSTART;TZID=UTC:20190608T130000
DTEND;TZID=UTC:20190608T150000
DTSTAMP:20260425T151442
CREATED:20190125T020537Z
LAST-MODIFIED:20190507T191719Z
UID:2315-1559998800-1560006000@paulvachonwrites.com
SUMMARY:Detroit: An Illustrated Timeline; Brief presentation and Signing
DESCRIPTION:
URL:https://paulvachonwrites.com/event/detroit-an-illustrated-timeline-presentation-and-signing-2/
LOCATION:Barnes and Noble 2800 S. Rochester Road  Rochester Hills\, MI 48307
END:VEVENT
BEGIN:VEVENT
DTSTART;VALUE=DATE:20190602
DTEND;VALUE=DATE:20190603
DTSTAMP:20260425T151442
CREATED:20190507T184302Z
LAST-MODIFIED:20190507T191439Z
UID:2364-1559433600-1559519999@paulvachonwrites.com
SUMMARY:Detroit: An Illustrated Timeline; Reading and signing
DESCRIPTION:Please note that although the Palmer Park Art Fair runs on both June 1 and June 2\, I will be present for the second day only.
URL:https://paulvachonwrites.com/event/palmer-park-art-fair-authors-tent/
LOCATION:Palmer Park\, Woodward Avenue and Six Mile Road\, Detroit\, MI\, 48221\, United States
END:VEVENT
BEGIN:VEVENT
DTSTART;TZID=UTC:20190601T130000
DTEND;TZID=UTC:20190601T150000
DTSTAMP:20260425T151442
CREATED:20190313T032230Z
LAST-MODIFIED:20190313T032230Z
UID:2348-1559394000-1559401200@paulvachonwrites.com
SUMMARY:Detroit: An Illustrated Timeline; Brief presentation and signing
DESCRIPTION:
URL:https://paulvachonwrites.com/event/detroit-an-illustrated-timeline-brief-presentation-and-signing/
LOCATION:Paper Trail Books\, 414 S. Washington Ave.\, Royal Oak\, MI\, 48067\, United Kingdom
END:VEVENT
BEGIN:VEVENT
DTSTART;TZID=UTC:20190523T183000
DTEND;TZID=UTC:20190523T193000
DTSTAMP:20260425T151442
CREATED:20190502T152258Z
LAST-MODIFIED:20190502T152527Z
UID:2359-1558636200-1558639800@paulvachonwrites.com
SUMMARY:Detroit: An Illustrated Timeline; Presentation and Signing
DESCRIPTION:
URL:https://paulvachonwrites.com/event/presentation-and-signing/
LOCATION:Dexter District Library\, 3255 Alpine St.\, Dexter\, MI\, 48130\, United States
END:VEVENT
BEGIN:VEVENT
DTSTART;TZID=UTC:20190520T190000
DTEND;TZID=UTC:20190520T210000
DTSTAMP:20260425T151442
CREATED:20190313T031807Z
LAST-MODIFIED:20190313T031807Z
UID:2345-1558378800-1558386000@paulvachonwrites.com
SUMMARY:Detroit: An Illustrated Timeline; Presentation and Signing
DESCRIPTION:
URL:https://paulvachonwrites.com/event/detroit-an-illustrated-timeline-presentation-and-signing-5/
LOCATION:Literati Bookstore\, 124 E. Washington St.\, Ann Arbor\, MI\, 48104\, United States
END:VEVENT
BEGIN:VEVENT
DTSTART;TZID=UTC:20190518T130000
DTEND;TZID=UTC:20190518T150000
DTSTAMP:20260425T151442
CREATED:20190313T031124Z
LAST-MODIFIED:20190313T031422Z
UID:2341-1558184400-1558191600@paulvachonwrites.com
SUMMARY:Detroit: An Illustrated Timeline; Signing with brief presentation
DESCRIPTION:
URL:https://paulvachonwrites.com/event/detroit-an-illustrated-timeline-signing-with-brief-presentation/
LOCATION:Barnes and Noble 3120 Fairlane Dr. Allen Park\, MI  48101\, 3120 Fairlane Dr.\, Allen Park\, MI\, 48101\, United States
END:VEVENT
BEGIN:VEVENT
DTSTART;TZID=America/Detroit:20190514T180000
DTEND;TZID=America/Detroit:20190514T200000
DTSTAMP:20260425T151442
CREATED:20190116T210741Z
LAST-MODIFIED:20190507T183413Z
UID:2310-1557856800-1557864000@paulvachonwrites.com
SUMMARY:Detroit: An Illustrated Timeline; Presentation and signing
DESCRIPTION:
URL:https://paulvachonwrites.com/event/detroit-an-illustrated-timeline-presentation-and-signing/
LOCATION:Pages Bookshop\, 19560 Grand River Ave.\, Detroit\, MI\, 48223\, United States
END:VEVENT
BEGIN:VEVENT
DTSTART;TZID=UTC:20190511T130000
DTEND;TZID=UTC:20190511T150000
DTSTAMP:20260425T151442
CREATED:20190313T030023Z
LAST-MODIFIED:20190313T030023Z
UID:2338-1557579600-1557586800@paulvachonwrites.com
SUMMARY:Detroit--An Illustrated Timeline; Signing with other local authors
DESCRIPTION:
URL:https://paulvachonwrites.com/event/detroit-an-illustrated-timeline-signing-with-other-local-authors/
LOCATION:Barnes and Noble\, 3120 Fairlane Dr.\, Allen Park\, MI\, 48101\, United States
END:VEVENT
END:VCALENDAR